BEGIN:VCALENDAR
VERSION:2.0
PRODID:-//APB &amp; Associates - ECPv6.15.20//NONSGML v1.0//EN
CALSCALE:GREGORIAN
METHOD:PUBLISH
X-WR-CALNAME:APB &amp; Associates
X-ORIGINAL-URL:https://apbandassociates.com
X-WR-CALDESC:Events for APB &amp; Associates
REFRESH-INTERVAL;VALUE=DURATION:PT1H
X-Robots-Tag:noindex
X-PUBLISHED-TTL:PT1H
BEGIN:VTIMEZONE
TZID:UTC
BEGIN:STANDARD
TZOFFSETFROM:+0000
TZOFFSETTO:+0000
TZNAME:UTC
DTSTART:20210101T000000
END:STANDARD
END:VTIMEZONE
BEGIN:VTIMEZONE
TZID:UTC
BEGIN:STANDARD
TZOFFSETFROM:+0000
TZOFFSETTO:+0000
TZNAME:UTC
DTSTART:20210101T000000
END:STANDARD
END:VTIMEZONE
BEGIN:VEVENT
DTSTART;TZID=UTC:20240727T130000
DTEND;TZID=UTC:20240727T130000
DTSTAMP:20260419T132211
CREATED:20240731T171043Z
LAST-MODIFIED:20240731T171200Z
UID:3127-1722085200-1722085200@apbandassociates.com
SUMMARY:Low Income Laborer Workshop 
DESCRIPTION:Invite Only Virtual Engagement
URL:https://apbandassociates.com/event/low-income-laborer-workshop/
END:VEVENT
BEGIN:VEVENT
DTSTART;TZID=UTC:20230821T183000
DTEND;TZID=UTC:20230821T214500
DTSTAMP:20260419T132211
CREATED:20230302T035014Z
LAST-MODIFIED:20230302T035015Z
UID:2763-1692642600-1692654300@apbandassociates.com
SUMMARY:Agile Certified Practitioner (PMI-ACP)® Certification Prep
DESCRIPTION:Agile Certified Practitioner (PMI-ACP)® Certification Prep \n\n\n\nThe PMI-ACP® spans many approaches to Agile and this course covers the key techniques\, tools and strategies that PMI® has listed for Agile practitioners to understand to achieve their certification. Project managers who learn to use Agile approaches have better collaboration skills\, manage complexity\, and master rapid response times. PMI-ACP® is one of the fastest growing certifications for the Agile professional. This course is online\, self-paced. No refund seven days prior to course start date. 21 hours. 2.1 CEUs. \n\n\n\nMondays/Wednesdays | 8/21 – 9/18 | 6:30 – 9:45 p.m. | Virtual | 9 Sessions \n\n\n\nProject Management Training | Howard Community College (howardcc.edu)
URL:https://apbandassociates.com/event/agile-certified-practitioner-pmi-acp-certification-prep/
ATTACH;FMTTYPE=image/png:https://apbandassociates.com/wp-content/uploads/2023/03/APB-Project-Management-School-6-1.png
ORGANIZER;CN="Howard Community College":MAILTO:continuingeducation@howardcc.edu
END:VEVENT
BEGIN:VEVENT
DTSTART;TZID=UTC:20230605T180000
DTEND;TZID=UTC:20230605T210000
DTSTAMP:20260419T132211
CREATED:20220912T154849Z
LAST-MODIFIED:20230302T033410Z
UID:2684-1685988000-1685998800@apbandassociates.com
SUMMARY:PMP® Exam Certification Prep
DESCRIPTION:PMP® Exam Certification Prep 3.6 CEUs\n\n\n\nParticipants learn the required Project Management Body of Knowledge (PMBOK®) Guide concepts including project scope\, life cycle\, and management methodologies from project inception and budgeting\, schedule and risk management\, to program closure and quality assurance. Designed for today’s busy professional\, this course offers support beyond the classroom with a virtual study group\, exam practice questions\, and online access to class content. Registered participants prepare for the PMP® exam and have the option for a one-on-one instructor session for assistance completing the PMP® exam application. Instructors: A. Bryan & R. Reynolds. \n\n\n\nObjectives: \n\n\n\n\nPrepare Students to confidently apply for and pass the PMP exam.\n\n\n\nPrepare Students with industry knowledge\, terminology\, tools and methods for a successful career in PM.\n\n\n\nPrepare Students with Agile methodology. \n\n\n\n\nMondays/Wednesdays | 6/5-7/12 | 6:00-9:00 p.m. | Virtual  \n\n\n\nProject Management (PMP) Exam Preparation – Prince George’s Community College (pgcc.edu)
URL:https://apbandassociates.com/event/pmp-exam-certification-prep/
LOCATION:Prince George Community College\, Online\, Largo\, 20774
ATTACH;FMTTYPE=image/png:https://apbandassociates.com/wp-content/uploads/2022/09/APB-Project-Management-School-5.png
ORGANIZER;CN="Prince George Community College":MAILTO:brownka1@pgcc.edu
END:VEVENT
BEGIN:VEVENT
DTSTART;TZID=UTC:20230515T183000
DTEND;TZID=UTC:20230515T214500
DTSTAMP:20260419T132212
CREATED:20220912T155502Z
LAST-MODIFIED:20230302T034149Z
UID:2687-1684175400-1684187100@apbandassociates.com
SUMMARY:PMP® Exam Certification Prep
DESCRIPTION:This online Live Instructor-Led Training is provided in 12 sessions on Tuesday/Thursdays at 6:30pm EST.  \n\n\n\nThe PMP® is the gold standard of project management certification. Recognized and demanded by organizations worldwide\, the PMP validates your competence to perform in the role of a project manager\, leading and directing projects and teams. The Project Management Institute® (PMI®) has changed the PMP® exam to focus on three main domains: \n\n\n\n\nPeople – about the skills and activities required to be an effective project team leader\, comprised of 14 tasks\,\n\n\n\nProcess – on the technical aspects of project management comprised of 17 tasks\, and\n\n\n\nBusiness Environment – to establish a link between project strategy and organizational goals comprised of four tasks.\n\n\n\n\nIf you enroll in this course and in our Microsoft Project course\, you may be eligible for the Workforce Development Sequence Scholarship. \n\n\n\nPMP® Certification Exam Prep \n\n\n\nThe new approach to the exam is based on a detailed study of job roles and task analysis. We can help you prepare for the new content. You will learn how to define team ground rules\, build a shared understanding\, engage and support virtual teams and more. Discover ways to collaborate with stakeholders collaborate with stakeholders\, lead a team\, manage and plan scope\, assess and manage risk and more. Learn to manage project changes\, determine appropriate project methods and practices\, and establish project governance. Find out how to evaluate business and environment changes\, support organizational change\, improve processes and more. No refunds seven days prior to course date. \n\n\n\nPrerequisite: At least 5 years of project management experience to sit for PMP® exam. Go to www.pmi.org for eligibility requirements for PMP® exam. Course fee includes digital resources: PMBOK Reference Guide\, Agile Practice Guide\, Course Workbook\, and Practice Exams. 3.9 CEUs. 39 Hours. \n\n\n\nTuesdays/Thursdays | 5/15 – 6/21/23 | 6:30 – 9:45 p.m. | Virtual   \n\n\n\nClick Here to Get Started
URL:https://apbandassociates.com/event/pmp-exam-certification-prep-2/
LOCATION:Howard Community College\, Online
ATTACH;FMTTYPE=image/png:https://apbandassociates.com/wp-content/uploads/2022/09/APB-Project-Management-School-5-1.png
ORGANIZER;CN="Howard Community College":MAILTO:continuingeducation@howardcc.edu
END:VEVENT
BEGIN:VEVENT
DTSTART;TZID=UTC:20230508T183000
DTEND;TZID=UTC:20230508T203000
DTSTAMP:20260419T132212
CREATED:20220912T154644Z
LAST-MODIFIED:20230302T032902Z
UID:2678-1683570600-1683577800@apbandassociates.com
SUMMARY:Principles of Project Management
DESCRIPTION:Principles of Project Management 1.2 CEUs\n\n\n\nThis course provides an introduction to the methods and techniques project managers use to effectively initiate\, plan\, execute\, control\, and report on their projects. Managers with limited experience learn project management concepts\, terms\, tools\, and aspects of the project life cycle as described in the Project Management Body of Knowledge (PMBOK®) Guide. This course is recommended prior to taking MGT-755. Instructors: A. Bryan & R. Reynolds. \n\n\n\nMondays/Wednesdays | 5/8 – 5/24/23 | 6:00-8:00 p.m. | Virtual \n\n\n\nProject Management (PMP) Exam Preparation – Prince George’s Community College (pgcc.edu)
URL:https://apbandassociates.com/event/principle-of-project-management/
LOCATION:Prince George Community College\, Online\, Largo\, 20774
ATTACH;FMTTYPE=image/png:https://apbandassociates.com/wp-content/uploads/2022/09/APB-Project-Management-School-4.png
ORGANIZER;CN="Prince George Community College":MAILTO:brownka1@pgcc.edu
END:VEVENT
BEGIN:VEVENT
DTSTART;TZID=UTC:20230311T183000
DTEND;TZID=UTC:20230311T214500
DTSTAMP:20260419T132212
CREATED:20230214T150623Z
LAST-MODIFIED:20230302T031802Z
UID:2737-1678559400-1678571100@apbandassociates.com
SUMMARY:Project Management Training: CAPM
DESCRIPTION:In this training we will provide everything you need to know to successfully take and pass the CAPM exam. \n\n\n\nThe Certified Associate of Project Management (CAPM) is a globally recognized credential that opens the door to opportunities at every stage of your career in the field of project management. \n\n\n\nThe current CAPM certification involves taking an exam that tests your aptitude in: \n\n\n\n\nFundamentals of project management and the role of project managers\n\n\n\nProject management environment\, and project integration management\n\n\n\nProject scope\, schedule\, cost\, quality and resource management.\n\n\n\nProject procurement\, communication\, stakeholder and risk management\n\n\n\n\nThe CAPM certification is an essential first step in building a career as a project manager.  \n\n\n\n \n\n\n\n10 Sessions Total. 2 Classes per week. 6:30 pm EST – 9:45pm EST. \n\n\n\n \n\n\n\nRegister for CAPM Training on the HCC Website: Project Management Training | Howard Community College (howardcc.edu) \n\n\n\n \n\n\n\nDifference between CAPM & PMP Training: \n\n\n\nCAPM (Certified Associate in Project Management) and PMP (Project Management Professional) are both certifications offered by the Project Management Institute (PMI)\, but they differ in terms of their level of experience required and scope of knowledge tested. \n\n\n\nCAPM certification is designed for individuals who are new to project management and have less than three years of experience. This certification focuses on the fundamentals of project management and covers areas such as project scope\, schedule\, cost\, quality\, and communication management. CAPM certification can be a good entry-level certification for those who are looking to gain basic project management knowledge and skills. \n\n\n\nOn the other hand\, PMP certification is designed for experienced project managers who have at least three years of project management experience and have completed a minimum of 35 hours of project management education. The PMP certification exam covers a broad range of project management concepts and skills\, including project integration\, scope\, time\, cost\, quality\, resource\, risk\, and stakeholder management. \n\n\n\nIn summary\, while CAPM certification is suitable for beginners\, PMP certification is more appropriate for experienced project managers who are looking to advance their careers and gain recognition for their expertise. \n\n\n\nLearn more about the CAPM: Certified Associate in Project Management | PMI
URL:https://apbandassociates.com/event/project-management-training-capm/
ATTACH;FMTTYPE=image/png:https://apbandassociates.com/wp-content/uploads/2023/02/APB-Project-Management-School-3.png
ORGANIZER;CN="Howard Community College":MAILTO:continuingeducation@howardcc.edu
END:VEVENT
BEGIN:VEVENT
DTSTART;TZID=UTC:20230302T173000
DTEND;TZID=UTC:20230302T190000
DTSTAMP:20260419T132212
CREATED:20230214T145323Z
LAST-MODIFIED:20230214T145407Z
UID:2732-1677778200-1677783600@apbandassociates.com
SUMMARY:Creating Successful Contracts
DESCRIPTION:In this workshop “Creating Contract Agreements for Small Business Success”\, you will learn the importance and benefits of understanding practical considerations within contract terms and conditions to reduce risks. \n\n\n\nThis workshop is for small businesses to support their growth and prepare them for successfully submitting a bid and winning a contract for the Guardians’ ballpark renovation project. \n\n\n\nLearn: \n\n\n\n• The importance of contracts \n\n\n\n• Components of building a solid contract \n\n\n\n• Practical considerations when developing contract terms \n\n\n\n• Conditions to mitigate business risks \n\n\n\nThursday\, March 2\, 2023 \n\n\n\nVirtual\, 5:30pm – 7:00pm EST \n\n\n\n“Creating Contract Agreement for Business Success” \n\n\n\nRegister for this workshop: https://www.eventbrite.com/e/creating-contract-agreements-tickets-538056420237
URL:https://apbandassociates.com/event/creating-successful-contracts/
ATTACH;FMTTYPE=image/png:https://apbandassociates.com/wp-content/uploads/2023/02/Copy-of-scale-up-Event-cover-10.png
END:VEVENT
BEGIN:VEVENT
DTSTART;TZID=UTC:20230105T173000
DTEND;TZID=UTC:20230105T190000
DTSTAMP:20260419T132212
CREATED:20221219T155147Z
LAST-MODIFIED:20221219T155148Z
UID:2725-1672939800-1672945200@apbandassociates.com
SUMMARY:Scale Up Your Business for Success
DESCRIPTION:Get Your Business Certified \n\n\n\nIn this Workshop Series “Scale Up Your Business for Success” we are hosting experts in business certification\, this workshop will cover the overview and get you prepared\, followed by the opportunity to schedule your one-on-one session to assist all documents needed and finally a third workshop to submit the applications. \n\n\n\nUnderstand an overview of the importance of being certified as Minority and/or Women Owned business and more. \n\n\n\nLearn what all you need to take the next steps in Certification. \n\n\n\nWe are here to assist you and your business in it’s success. \n\n\n\nGet Certified\, Fast track (State) Informational Session is Part 1 of 3 to get certified. You must attend this workshop to receive link to part 2 & 3.  \n\n\n\nRSVP for your Free Workshop Ticket
URL:https://apbandassociates.com/event/scale-up-your-business-for-success/
LOCATION:Progressive Fields\, 2401 Ontario St\, Cleveland\, Ohio\, 44115\, United States
ATTACH;FMTTYPE=image/png:https://apbandassociates.com/wp-content/uploads/2022/12/Copy-of-scale-up-Event-cover-5.png
END:VEVENT
BEGIN:VEVENT
DTSTART;TZID=UTC:20221010T130000
DTEND;TZID=UTC:20221010T170000
DTSTAMP:20260419T132212
CREATED:20220912T161144Z
LAST-MODIFIED:20220912T161145Z
UID:2697-1665406800-1665421200@apbandassociates.com
SUMMARY:APICS Certified Supply Chain Professional (CSCP)
DESCRIPTION:Course Description\n\n\n\nThis course prepares participants for the APICS CSCP exam\, which encompasses the end-to-end global supply chain. From suppliers to  the end customer\, CSCP covers globalization\, IT enablement and supplier and customer relations. The credential allows individuals to demonstrate increased knowledge of standards to address today’s supply chain challenges. \n\n\n\nLearner Outcomes\n\n\n\nUpon completion\, participants will be able to: \n\n\n\nMaster essential supply chain concepts and streamline supply chain operations.Understand CSCP subject matter and successfully pass the CSCP exam. \n\n\n\nNotes\n\n\n\nRecommended Experience \n\n\n\nStudents must meet one of the following three requirements: \n\n\n\nAt least three years of supply chain-related business experienceBachelors’ degree or international equivalentAPICS CLTD\, CPIM\, SCOR-P\, CIRM\, CTL or APICS fellows-level certification or a CPM\, CSM or CPSM\n\n\n\n*Note:  Participants must pass a 150-question online exam to achieve certification.  \n\n\n\n \n\n\n\nMonday\, October 10\, 2022 1:00 PM-5:00 PM \n\n\n\n \n\n\n\nCourse Fee non-credit$1\,395.00
URL:https://apbandassociates.com/event/apics-certified-supply-chain-professional-cscp/
LOCATION:Tri-C Corporate College\, Online
END:VEVENT
BEGIN:VEVENT
DTSTART;TZID=UTC:20221005T083000
DTEND;TZID=UTC:20221005T170000
DTSTAMP:20260419T132212
CREATED:20220912T160901Z
LAST-MODIFIED:20220912T160902Z
UID:2693-1664958600-1664989200@apbandassociates.com
SUMMARY:Introduction to Smart Cities
DESCRIPTION:Course Description\n\n\n\nExamine every aspect of a city’s operations and how technology can be used to improve citizens’ quality of life. The foundation of a Smart City is Smart People — the driving force for creating innovative infrastructure and systems solutions. A successful Smart City depends upon a knowledgeable\, professional workforce ready to take on the challenges of a technology-powered community. This interactive and collaborative course requires active participation to obtain maximum benefit and skill development. \n\n\n\nCourse Outline\n\n\n\nIntroduction and Exploration of Smart City Foundations\, Applications\, Players\, Principles\, Technology and TrendsSmart Cities Systems and SubsystemsThe Roles and Governance of Smart CitizensWaves of Innovation in Infrastructure\, IoT\, Networking and DataEconomic Waves and Globalization 1.0\, 2.0\, 3.0 and 4.0Smart Cities Communities of Practice\, Culture and Inclusion StrategiesStandards and GovernanceDigital\, Smart and Intelligent Cities and IoT Applications\n\n\n\nLearner Outcomes\n\n\n\nUpon completion\, participants will be able to: \n\n\n\nDemonstrate the core competencies and new skills for a successful Smart City.Comprehend the outcomes of the class.\n\n\n\n \n\n\n\nWednesday\, October 5\, 2022 8:30 AM-5:00 PM \n\n\n\nTuesday\, May 9\, 2023 \n\n\n\nCourse Fee non-credit$525.00
URL:https://apbandassociates.com/event/introduction-to-smart-cities/
LOCATION:Tri-C Corporate College\, Online
END:VEVENT
BEGIN:VEVENT
DTSTART;TZID=UTC:20220916T080000
DTEND;TZID=UTC:20220916T120000
DTSTAMP:20260419T132212
CREATED:20220831T122443Z
LAST-MODIFIED:20220831T122445Z
UID:2672-1663315200-1663329600@apbandassociates.com
SUMMARY:PMI Certification Exam Prep (CAPM/PMP)
DESCRIPTION:“In today’s competitive business climate\, there is an increasing demand for decreasing costs and inefficiencies and incorporating practices that bring value through higher production and better quality. With an expectation of increased ROI\, collaborative\, project-style work and change management have become key methods to drive results. But most organizations face challenges that lead to projects that fail to meet their objectives\, despite being funded and managed by highly capable professionals. \n\n\n\nThe difference between project success and the inability to see projects through to successful completion is professionals who have the fundamental project management skills required to drive progress and deliver value. \n\n\n\nProject management is a broad term often applied to a number of different jobs within a company. No matter your department\, your background or your experience level (beginner\, intermediate or advanced)\, you will add value to your organization with applicable project management skills.” \n\n\n\nDays: Friday & Saturday Classes \n\n\n\nSessions: 12 Classes Total  \n\n\n\nTime: 8am – 12pm EST \n\n\n\nRegister: Tri-C Corporate College Project Management: Cleveland\, Ohio \n\n\n\n\n\n\n\n\n\nRegister: Tri-C Corporate College Project Management: Cleveland\, Ohio
URL:https://apbandassociates.com/event/pmi-certification-exam-prep-capm-pmp/
LOCATION:Online – Virtual
END:VEVENT
BEGIN:VEVENT
DTSTART;TZID=UTC:20220823T173000
DTEND;TZID=UTC:20220823T190000
DTSTAMP:20260419T132212
CREATED:20220822T152924Z
LAST-MODIFIED:20220822T153252Z
UID:2657-1661275800-1661281200@apbandassociates.com
SUMMARY:Scale Up Your Business - Workshop 3
DESCRIPTION:When you sign a contract to work with a larger business\, you can request that they help guide you in growing your business too. In tomorrow’s workshop we will be discussing how to form a Mentor-Protege feature. \n\n\n\nThe last of this workshop series is focused on the Mentor-Protege.  \n\n\n\nWhat it is & How to use it to scale your business.Meet the Guardian’s Renovation Leadership Team\n\n\n\nThe Mission of This Workshop Series”The overall goal of this project is transparency and to make a strong impact before\, during\, and after construction. We want this renovation project to be beneficial for everyone by inviting small businesses in and asking “how can we help.” This workshop series was just the beginning\, we plan to host more to support the small business community. By doing this we hope to set a model for future projects to improve resources and growth opportunities for minority owned businesses in the community.” \n\n\n\nRSVP by 3pm 8/22/22RSVP on Eventbrite
URL:https://apbandassociates.com/event/mentor-protege/
LOCATION:Progressive Fields\, 2401 Ontario St\, Cleveland\, Ohio\, 44115\, United States
CATEGORIES:Workshop
ATTACH;FMTTYPE=image/png:https://apbandassociates.com/wp-content/uploads/2022/08/scale-up-Event-cover-3-e1717081163142.png
END:VEVENT
END:VCALENDAR